BEGIN:VCALENDAR
VERSION:2.0
PRODID:-//eventon.com NONSGML v1.0//EN
CALSCALE:GREGORIAN
METHOD:PUBLISH
BEGIN:VEVENT
UID:69e7c49e2d07a
DTSTAMP:20260421T184030Z
DTSTART:20260416T080000Z
DTEND:20260417T140000Z
LOCATION:Boerderij aan de Dijk Ketelmeerweg 3\,  Nagele
SUMMARY:No Waste Army Aardappel actie
DESCRIPTION:Op vrijdag 16 en zaterdag 17 april kan je bij ons op de boerder
 ij aardappels afhalen vanuit de No Waste Army actie! Inmiddels is het niet 
 meer mogelijk om via de site te bestelling maar je kan ook langskomen zonde
 r bestelling. Er worden ook uien en pastinaken verkocht van biologische[..]
 \nhttps://boerderijaandedijk.nl/events/no-waste-army-aardappel-actie/
URL:https://boerderijaandedijk.nl/events/no-waste-army-aardappel-actie/
END:VEVENT
END:VCALENDAR