BEGIN:VCALENDAR
VERSION:2.0
PRODID:-//eventon.com NONSGML v1.0//EN
CALSCALE:GREGORIAN
METHOD:PUBLISH
BEGIN:VEVENT
UID:69e7c49e2b3c5
DTSTAMP:20260421T184030Z
DTSTART:20260808T080000Z
DTEND:20260808T130000Z
LOCATION:Boerderij aan de Dijk Ketelmeerweg 3\,  Nagele
SUMMARY:Zomermarkt
DESCRIPTION:Op 8 augustus organiseren we een zomermarkt! Wat: Zomermarkt me
 t verschillende kraampjes en activiteiten voor kinderen Datum: zaterdag 8 a
 ugustus van 10-15u. Waar: Ketelmeerweg 3\,  8308 RA Nagele Een heerlijke zo
 merse markt op ons erf! We hebben een grote kraam met biologische groentes 
 en kruiden. Daarnaast zullen ook verschillende andere[..]\nhttps://boerderi
 jaandedijk.nl/events/zomermarkt-augustus/
URL:https://boerderijaandedijk.nl/events/zomermarkt-augustus/
END:VEVENT
END:VCALENDAR