BEGIN:VCALENDAR
VERSION:2.0
PRODID:-//eventon.com NONSGML v1.0//EN
CALSCALE:GREGORIAN
METHOD:PUBLISH
BEGIN:VEVENT
UID:69e7c3e37ff63
DTSTAMP:20260421T183723Z
DTSTART:20260613T080000Z
DTEND:20260613T130000Z
LOCATION:Boerderij aan de Dijk Ketelmeerweg 3\,  Nagele
SUMMARY:Zomermarkt
DESCRIPTION:Op 13 juni organiseren we een zomermarkt! Wat: Zomermarkt met v
 erschillende kraampjes en activiteiten voor kinderen Datum: zaterdag 13 jun
 i van 10-15u. Waar: Ketelmeerweg 3\,  8308 RA Nagele Een heerlijke zomerse 
 markt op ons erf! We hebben een grote kraam met biologische groentes en kru
 iden. Daarnaast zullen ook verschillende andere[..]\nhttps://boerderijaande
 dijk.nl/events/zomermarkt-juni/
URL:https://boerderijaandedijk.nl/events/zomermarkt-juni/
END:VEVENT
END:VCALENDAR